BEGIN:VCALENDAR
VERSION:2.0
PRODID:-//ChamberMaster//Event Calendar 2.0//EN
METHOD:PUBLISH
X-PUBLISHED-TTL:P3D
REFRESH-INTERVAL:P3D
CALSCALE:GREGORIAN
BEGIN:VEVENT
DTSTART:20260425T180000Z
DTEND:20260425T220000Z
X-MICROSOFT-CDO-ALLDAYEVENT:FALSE
SUMMARY:The Blossom Reverie Fair
DESCRIPTION:Blossom Reverie Fair\n\nSaturday\, April 25\, 2026 | 2:00   6:00 PM | Event by North Country Rural Development Coalition\, Essex County Land Bank & North Country Roots\n\nBlossom Reverie Fair is a new\, large-scale spring celebration featuring a downtown street closure\, immersive floral installations\, flower and plant vendors\, live music and a spectacular large-scale puppetry parade weaving through the streets. Whimsical\, colorful\, and family-forward\, the fair welcomes residents and visitors to experience downtown through art\, movement\, nature\, and joy.\n\nFree & Open to the Public!\n\n\n\nClick here for flyer!
X-ALT-DESC;FMTTYPE=text/html:<span style="font-size:16px\;">Blossom Reverie Fair<br />\nSaturday\, April 25\, 2026 | 2:00 &ndash\; 6:00 PM | Event by North Country Rural Development Coalition\, Essex County Land Bank &amp\; North Country Roots<br />\nBlossom Reverie Fair is a new\, large-scale spring celebration featuring a downtown street closure\, immersive floral installations\, flower and plant vendors\, live music and a spectacular large-scale puppetry parade weaving through the streets. Whimsical\, colorful\, and family-forward\, the fair welcomes residents and visitors to experience downtown through art\, movement\, nature\, and joy.<br />\nFree &amp\; Open to the Public!<br />\n<br />\n<a href="https://chambermaster.blob.core.windows.net/userfiles/UserFiles/chambers/1115/File/BRFFinalPDF1.pdf">Click here for flyer!</a> </span>
LOCATION:Downtown Ticonderoga
UID:e.1115.35952
SEQUENCE:3
DTSTAMP:20260424T092916Z
URL:https://business.ticonderogany.com/events/details/the-blossom-reverie-fair-35952
END:VEVENT

END:VCALENDAR
