BEGIN:VCALENDAR
VERSION:2.0
PRODID:-//ChamberMaster//Event Calendar 2.0//EN
METHOD:PUBLISH
X-PUBLISHED-TTL:P3D
REFRESH-INTERVAL:P3D
CALSCALE:GREGORIAN
BEGIN:VEVENT
DTSTART:20261022T220000Z
DTEND:20261023T000000Z
X-MICROSOFT-CDO-ALLDAYEVENT:FALSE
SUMMARY:TACC Community Appreciation Dinner & Awards Ceremony
DESCRIPTION:TACC Community Appreciation Dinner & Awards Ceremony to be held on Thursday\, October 22nd at the Ticonderoga Knights of Columbus. \n\n*Stay tuned for more details!
X-ALT-DESC;FMTTYPE=text/html:TACC Community Appreciation Dinner &amp\; Awards Ceremony to be held on Thursday\, October 22nd at the Ticonderoga Knights of Columbus.&nbsp\;<br />\n*Stay tuned for more details!
LOCATION:Ticonderoga Knights of Columbus
UID:e.1115.36121
SEQUENCE:3
DTSTAMP:20260424T134628Z
URL:https://business.ticonderogany.com/events/details/tacc-community-appreciation-dinner-awards-ceremony-36121
END:VEVENT

END:VCALENDAR
