BEGIN:VCALENDAR
VERSION:2.0
PRODID:-//ChamberMaster//Event Calendar 2.0//EN
METHOD:PUBLISH
X-PUBLISHED-TTL:P3D
REFRESH-INTERVAL:P3D
CALSCALE:GREGORIAN
BEGIN:VEVENT
DTSTART:20260422T130000Z
DTEND:20260422T210000Z
X-MICROSOFT-CDO-ALLDAYEVENT:FALSE
SUMMARY:TACC Chamber Day
DESCRIPTION:The Ticonderoga Area Chamber of Commerce (TACC) will host their annual Chamber Day Open House on Wednesday\, April 22nd\, 2026 from 9:00 AM to 4:00 PM at the TACC office. This event provides an opportunity for Chamber Members to connect directly with Team TACC\, maximize their Member Benefits\, ensure their contact information and website listings are up to date\, and learn more about what their Membership Investment supports. Members can also receive assistance with accessing and utilizing their online Membership portal.\n\nTACC Members will have the opportunity to pick up their new Membership Plaque and important Member Benefit information and resources. Refreshments will be available\, and all Members who attend can enter to win a door prize.\n\n"Our TACC Members\, Partners\, Board Members\, Ambassadors\, and Volunteers are at the heart of everything we do. Your continued support allows us to provide impactful programs\, services\, events\, and initiatives that strengthen our business community and region. Chamber Day is a great opportunity to connect one-on-one with our team\, ask questions\, and ensure you are taking full advantage of your Membership. We encourage all Members to stop in\, visit with Team TACC\, and take part in this day dedicated to you\," shared Erin Mullen\, TACC Member Service & Events Manager.\n\nTACC encourages all Members to proudly display their Membership Plaque in a visible location to show their commitment to the Chamber and the Ticonderoga Area community.\n\nMembers who are unable to attend Chamber Day may have their materials delivered by a TACC Board Member or Ambassador or mailed directly to them. Stay tuned for additional opportunities to pick up your plaque and new Membership information.\n\nChamber Members receive a wide range of benefits through TACC\, as well as through partner agencies. A TACC Membership Investment is not only an investment in an individual business or organization\, but also in the community and its future. Chamber Members and Partners make all TACC programs\, services\, events\, and economic development initiatives possible.\n\nImportant TACC INFO:\n\nTACC Tagline: Business Focused. Community Minded. Future Driven.\n\nTACC Mission: To initiate and provide programs\, services\, and leadership which will enhance a cooperative business community and create a vibrant economy\, making the Ticonderoga Area an exceptional place to live\, work\, and visit.\n\nTACC Vision: The TACC will be the leading advocate for business\, serving as a driving force in the economic vitality of the greater Ticonderoga Area\, uniting communities and maximizing resources.\n\nKey Areas of Focus:\n\nMembership: Membership Services\, Growth\, & Retention\n\nBusiness: Business Services\, Support\, & Development\n\nTourism: Marketing\, Events\, & Visitor Services\n\nCommunication: Public\, Business & Community Relations\n\nLeadership: Partnerships\, Economic Development\, Workforce Development\, Sustainability\, & Advocacy\n\nOrganization: Finance\, Staff\, Board of Directors\, & Ambassadors\n\nFor more information on Chamber Day: Membership Matters & Benefits 101 Open House visit www.ticonderogany.com\, like and follow the TACC Facebook page\, or call 518-585-6619.
X-ALT-DESC;FMTTYPE=text/html:<p style="background: 0px 0px rgba(255\, 255\, 255\, 0.3)\; border: 0px\; margin: 10px 0px 22px\; padding: 0px\; vertical-align: baseline\; outline: 0px\; font-size: 16px\; font-family: Roboto\, sans-serif\;">The Ticonderoga Area Chamber of Commerce (TACC) will host their annual Chamber Day Open House on Wednesday\, April 22nd\, 2026 from 9:00 AM to 4:00 PM at the TACC office. This event provides an opportunity for Chamber Members to connect directly with Team TACC\, maximize their Member Benefits\, ensure their contact information and website listings are up to date\, and learn more about what their Membership Investment supports. Members can also receive assistance with accessing and utilizing their online Membership portal.</p>\n\n<p style="background: 0px 0px rgba(255\, 255\, 255\, 0.3)\; border: 0px\; margin: 10px 0px 22px\; padding: 0px\; vertical-align: baseline\; outline: 0px\; font-size: 16px\; font-family: Roboto\, sans-serif\;">TACC Members will have the opportunity to pick up their new Membership Plaque and important Member Benefit information and resources. Refreshments will be available\, and all Members who attend can enter to win a door prize.</p>\n\n<p style="background: 0px 0px rgba(255\, 255\, 255\, 0.3)\; border: 0px\; margin: 10px 0px 22px\; padding: 0px\; vertical-align: baseline\; outline: 0px\; font-size: 16px\; font-family: Roboto\, sans-serif\;">&ldquo\;Our TACC Members\, Partners\, Board Members\, Ambassadors\, and Volunteers are at the heart of everything we do. Your continued support allows us to provide impactful programs\, services\, events\, and initiatives that strengthen our business community and region. Chamber Day is a great opportunity to connect one-on-one with our team\, ask questions\, and ensure you are taking full advantage of your Membership. We encourage all Members to stop in\, visit with Team TACC\, and take part in this day dedicated to you\,&rdquo\; shared Erin Mullen\, TACC Member Service &amp\; Events Manager.</p>\n\n<p style="background: 0px 0px rgba(255\, 255\, 255\, 0.3)\; border: 0px\; margin: 10px 0px 22px\; padding: 0px\; vertical-align: baseline\; outline: 0px\; font-size: 16px\; font-family: Roboto\, sans-serif\;">TACC encourages all Members to proudly display their Membership Plaque in a visible location to show their commitment to the Chamber and the Ticonderoga Area community.</p>\n\n<p style="background: 0px 0px rgba(255\, 255\, 255\, 0.3)\; border: 0px\; margin: 10px 0px 22px\; padding: 0px\; vertical-align: baseline\; outline: 0px\; font-size: 16px\; font-family: Roboto\, sans-serif\;">Members who are unable to attend Chamber Day may have their materials delivered by a TACC Board Member or Ambassador or mailed directly to them. Stay tuned for additional opportunities to pick up your plaque and new Membership information.</p>\n\n<p style="background: 0px 0px rgba(255\, 255\, 255\, 0.3)\; border: 0px\; margin: 10px 0px 22px\; padding: 0px\; vertical-align: baseline\; outline: 0px\; font-size: 16px\; font-family: Roboto\, sans-serif\;">Chamber Members receive a wide range of benefits through TACC\, as well as through partner agencies. A TACC Membership Investment is not only an investment in an individual business or organization\, but also in the community and its future. Chamber Members and Partners make all TACC programs\, services\, events\, and economic development initiatives possible.</p>\n\n<p style="background: 0px 0px rgba(255\, 255\, 255\, 0.3)\; border: 0px\; margin: 10px 0px 22px\; padding: 0px\; vertical-align: baseline\; outline: 0px\; font-size: 16px\; font-family: Roboto\, sans-serif\;"><strong style="background: 0px 0px\; border: 0px\; margin: 0px\; padding: 0px\; vertical-align: baseline\; outline: 0px\;">Important TACC INFO:</strong></p>\n\n<p style="background: 0px 0px rgba(255\, 255\, 255\, 0.3)\; border: 0px\; margin: 10px 0px 22px\; padding: 0px\; vertical-align: baseline\; outline: 0px\; font-size: 16px\; font-family: Roboto\, sans-serif\;"><strong style="background: 0px 0px\; border: 0px\; margin: 0px\; padding: 0px\; vertical-align: baseline\; outline: 0px\;">TACC Tagline:</strong>&nbsp\;Business Focused. Community Minded. Future Driven.</p>\n\n<p style="background: 0px 0px rgba(255\, 255\, 255\, 0.3)\; border: 0px\; margin: 10px 0px 22px\; padding: 0px\; vertical-align: baseline\; outline: 0px\; font-size: 16px\; font-family: Roboto\, sans-serif\;"><strong style="background: 0px 0px\; border: 0px\; margin: 0px\; padding: 0px\; vertical-align: baseline\; outline: 0px\;">TACC Mission:&nbsp\;</strong>To initiate and provide programs\, services\, and leadership which will enhance a cooperative business community and create a vibrant economy\, making the Ticonderoga Area an exceptional place to live\, work\, and visit.</p>\n\n<p style="background: 0px 0px rgba(255\, 255\, 255\, 0.3)\; border: 0px\; margin: 10px 0px 22px\; padding: 0px\; vertical-align: baseline\; outline: 0px\; font-size: 16px\; font-family: Roboto\, sans-serif\;"><strong style="background: 0px 0px\; border: 0px\; margin: 0px\; padding: 0px\; vertical-align: baseline\; outline: 0px\;">TACC Vision:&nbsp\;</strong>The TACC will be the leading advocate for business\, serving as a driving force in the economic vitality of the greater Ticonderoga Area\, uniting communities and maximizing resources.</p>\n\n<p style="background: 0px 0px rgba(255\, 255\, 255\, 0.3)\; border: 0px\; margin: 10px 0px 22px\; padding: 0px\; vertical-align: baseline\; outline: 0px\; font-size: 16px\; font-family: Roboto\, sans-serif\;"><strong style="background: 0px 0px\; border: 0px\; margin: 0px\; padding: 0px\; vertical-align: baseline\; outline: 0px\;">Key Areas of Focus:</strong></p>\n\n<p style="background: 0px 0px rgba(255\, 255\, 255\, 0.3)\; border: 0px\; margin: 10px 0px 22px\; padding: 0px\; vertical-align: baseline\; outline: 0px\; font-size: 16px\; font-family: Roboto\, sans-serif\;">Membership: Membership Services\, Growth\, &amp\; Retention</p>\n\n<p style="background: 0px 0px rgba(255\, 255\, 255\, 0.3)\; border: 0px\; margin: 10px 0px 22px\; padding: 0px\; vertical-align: baseline\; outline: 0px\; font-size: 16px\; font-family: Roboto\, sans-serif\;">Business: Business Services\, Support\, &amp\; Development</p>\n\n<p style="background: 0px 0px rgba(255\, 255\, 255\, 0.3)\; border: 0px\; margin: 10px 0px 22px\; padding: 0px\; vertical-align: baseline\; outline: 0px\; font-size: 16px\; font-family: Roboto\, sans-serif\;">Tourism: Marketing\, Events\, &amp\; Visitor Services</p>\n\n<p style="background: 0px 0px rgba(255\, 255\, 255\, 0.3)\; border: 0px\; margin: 10px 0px 22px\; padding: 0px\; vertical-align: baseline\; outline: 0px\; font-size: 16px\; font-family: Roboto\, sans-serif\;">Communication: Public\, Business &amp\; Community Relations</p>\n\n<p style="background: 0px 0px rgba(255\, 255\, 255\, 0.3)\; border: 0px\; margin: 10px 0px 22px\; padding: 0px\; vertical-align: baseline\; outline: 0px\; font-size: 16px\; font-family: Roboto\, sans-serif\;">Leadership: Partnerships\, Economic Development\, Workforce Development\, Sustainability\, &amp\; Advocacy</p>\n\n<p style="background: 0px 0px rgba(255\, 255\, 255\, 0.3)\; border: 0px\; margin: 10px 0px 22px\; padding: 0px\; vertical-align: baseline\; outline: 0px\; font-size: 16px\; font-family: Roboto\, sans-serif\;">Organization: Finance\, Staff\, Board of Directors\, &amp\; Ambassadors</p>\n\n<p style="background: 0px 0px rgba(255\, 255\, 255\, 0.3)\; border: 0px\; margin: 10px 0px 22px\; padding: 0px\; vertical-align: baseline\; outline: 0px\; font-size: 16px\; font-family: Roboto\, sans-serif\;">For more information on Chamber Day: Membership Matters &amp\; Benefits 101 Open House visit&nbsp\;<a href="http://www.ticonderogany.com/" style="background: 0px 0px\; border: 0px\; margin: 0px\; padding: 0px\; vertical-align: baseline\; outline: 0px\; color: rgb(98\, 58\, 48)\; text-decoration-line: none\; cursor: pointer\;">www.ticonderogany.com</a>\, like and follow the TACC Facebook page\, or call 518-585-6619.</p>\n
LOCATION:TACC Office
UID:e.1115.36116
SEQUENCE:3
DTSTAMP:20260422T082859Z
URL:https://business.ticonderogany.com/events/details/tacc-chamber-day-36116
END:VEVENT

END:VCALENDAR
