BEGIN:VCALENDAR
VERSION:2.0
PRODID:-//ChamberMaster//Event Calendar 2.0//EN
METHOD:PUBLISH
X-PUBLISHED-TTL:P3D
REFRESH-INTERVAL:P3D
CALSCALE:GREGORIAN
BEGIN:VEVENT
DTSTART:20260427T170000Z
DTEND:20260427T210000Z
X-MICROSOFT-CDO-ALLDAYEVENT:FALSE
SUMMARY:NYS Projects Pop-Up Series: Capital Region
DESCRIPTION:Event Details\n\n	Date: Monday\, April 27\, 2026\n	Time: 1:00 PM   5:00 PM\n	Location: Washington Park Lake House\, Washington Park Rd\, Albany\, NY 12203\n	REGISTER NOW: Space is limited\, RSVP by 5pm April 22\, 2026\, HERE.\n\n\n\n\n\n\n\n\nWho Will Be There?\n\nWe are bringing the projects to you. Connect with representatives from major developments\, including:\n\n	Life Sciences Public Health Lab\n	Kiliaen's Landing\n	Palace Theater Upgrades & North Pearl Street Revitalization\n	Deloitte\n	NYS OGS/NYS DOT Lab\n	SUNY Albany Ryckman & Van Rensselaer Halls Project (DASNY)\n	NYS OGS Projects\n	Albany Housing Authority\n	And more!\n\n\n\nGet the Support You Need\n\nBeyond networking\, access to "on-the-spot" resources and technical assistance from industry leaders to assist with business needs including:\n\n	Financing & Bonding: Community Loan Fund\, Surety Bond Associates\, Community Capital NY\, and more!\n	Business Resources: City of Albany\, Albany Black Chamber of Commerce\, Mohawk Valley SBDC\, Empire APEX Accelerator\, NYS Workers Comp\, SUNY Cobleskill EAC\, ESD Small Business\, and more!\n\n\n\nWhy Attend?\n\n\n	Learn about upcoming procurement opportunities in the Capital Region.\n	Network with project leading companies looking for local partners.\n	Receive one-on-one technical assistance to help position your business for success.\n\n\n\nSpace is limited. Don't miss this chance to position your business at the forefront of New York State's growth.\n\n\n\nRSVP TODAY. Registration closes at 5 PM on April 22\, 2026.
X-ALT-DESC;FMTTYPE=text/html:<strong>Event Details</strong>\n<ul>\n	<li style="margin:0px 0px 0px 15px\;"><strong>Date:</strong>&nbsp\;Monday\,&nbsp\;<strong>April 27\, 2026</strong></li>\n	<li style="margin:0px 0px 0px 15px\;"><strong>Time:</strong>&nbsp\;<strong>1:00 PM &ndash\; 5:00 PM</strong></li>\n	<li style="margin:0px 0px 0px 15px\;"><strong>Location:</strong>&nbsp\;Washington Park Lake House\, Washington Park Rd\, Albany\, NY 12203</li>\n	<li style="margin:0px 0px 0px 15px\;"><strong>REGISTER NOW:&nbsp\;</strong>Space is limited\, RSVP by 5pm April 22\,&nbsp\;2026\,&nbsp\;<a data-saferedirecturl="https://www.google.com/url?q=https://docs.google.com/forms/d/e/1FAIpQLSewnzwLu_bShaNgP7n7SVkAAnxcgDB8FKSQ7bxNft7c-cXiFg/viewform?usp%3Ddialog&amp\;source=gmail&amp\;ust=1776784530882000&amp\;usg=AOvVaw3Hbbvb-6xvRoh5feSjkvhu" href="https://docs.google.com/forms/d/e/1FAIpQLSewnzwLu_bShaNgP7n7SVkAAnxcgDB8FKSQ7bxNft7c-cXiFg/viewform?usp=dialog" style="color:rgb(17\, 85\, 204)\;" target="_blank"><strong>HERE</strong></a>.</li>\n</ul>\n\n<div style="color:rgb(34\, 34\, 34)\;font-family:Arial\, Helvetica\, sans-serif\;font-size:small\;margin-bottom:8pt\;">\n<div align="center" style="text-align:center\;">\n<hr align="center" size="1" width="100%" /></div>\n</div>\n<br />\n<strong>Who Will Be There?</strong><br />\nWe are bringing the projects to you. Connect with representatives from major developments\, including:\n<ul>\n	<li style="margin:0px 0px 0px 15px\;"><strong>Life Sciences Public Health Lab</strong></li>\n	<li style="margin:0px 0px 0px 15px\;"><strong>Kiliaen&rsquo\;s Landing</strong></li>\n	<li style="margin:0px 0px 0px 15px\;"><strong>Palace Theater Upgrades &amp\; North Pearl Street Revitalization</strong></li>\n	<li style="margin:0px 0px 0px 15px\;"><strong>Deloitte</strong></li>\n	<li style="margin:0px 0px 0px 15px\;"><strong>NYS OGS/NYS DOT Lab</strong></li>\n	<li style="margin:0px 0px 0px 15px\;"><strong>SUNY Albany Ryckman &amp\; Van Rensselaer Halls Project (DASNY)</strong></li>\n	<li style="margin:0px 0px 0px 15px\;"><strong>NYS OGS Projects</strong></li>\n	<li style="margin:0px 0px 0px 15px\;"><strong>Albany Housing Authority</strong></li>\n	<li style="margin:0px 0px 0px 15px\;"><strong>And more!</strong></li>\n</ul>\n<br />\n<strong>Get the Support You Need</strong><br />\nBeyond networking\, access to &quot\;on-the-spot&quot\; resources and technical assistance from industry leaders to assist with business needs including:\n<ul>\n	<li style="margin:0px 0px 0px 15px\;"><strong>Financing &amp\;</strong>&nbsp\;<strong>Bonding:&nbsp\;</strong>Community Loan Fund\, Surety Bond Associates\, Community Capital NY\, and more!</li>\n	<li style="margin:0px 0px 0px 15px\;"><strong>Business Resources:&nbsp\;</strong>City of Albany\, Albany Black Chamber of Commerce\, Mohawk Valley SBDC\, Empire APEX Accelerator\, NYS Workers Comp\, SUNY Cobleskill EAC\, ESD Small Business\, and more!</li>\n</ul>\n<br />\n<strong>Why Attend?</strong>\n\n<ul>\n	<li style="margin:0px 0px 0px 15px\;"><strong>Learn</strong>&nbsp\;about upcoming procurement opportunities in the Capital Region.</li>\n	<li style="margin:0px 0px 0px 15px\;"><strong>Network</strong>&nbsp\;with project leading companies looking for local partners.</li>\n	<li style="margin:0px 0px 0px 15px\;"><strong>Receive</strong>&nbsp\;one-on-one technical assistance to help position your business for success.</li>\n</ul>\n<br />\nSpace is limited. Don&#39\;t miss this chance to position your business at the forefront of New York State&rsquo\;s growth.<br />\n<br />\n<a data-saferedirecturl="https://www.google.com/url?q=https://docs.google.com/forms/d/e/1FAIpQLSewnzwLu_bShaNgP7n7SVkAAnxcgDB8FKSQ7bxNft7c-cXiFg/viewform?usp%3Ddialog&amp\;source=gmail&amp\;ust=1776784530882000&amp\;usg=AOvVaw3Hbbvb-6xvRoh5feSjkvhu" href="https://docs.google.com/forms/d/e/1FAIpQLSewnzwLu_bShaNgP7n7SVkAAnxcgDB8FKSQ7bxNft7c-cXiFg/viewform?usp=dialog" style="color:rgb(17\, 85\, 204)\;" target="_blank"><strong>RSVP TODAY</strong></a>. Registration closes at 5 PM on April 22\, 2026.
LOCATION:
UID:e.1115.37175
SEQUENCE:3
DTSTAMP:20260424T093041Z
URL:https://business.ticonderogany.com/events/details/nys-projects-pop-up-series-capital-region-37175
END:VEVENT

END:VCALENDAR
