BEGIN:VCALENDAR
VERSION:2.0
PRODID:-//ChamberMaster//Event Calendar 2.0//EN
METHOD:PUBLISH
X-PUBLISHED-TTL:P3D
REFRESH-INTERVAL:P3D
CALSCALE:GREGORIAN
BEGIN:VEVENT
DTSTART:20140901T170000Z
DTEND:20140901T170000Z
X-MICROSOFT-CDO-ALLDAYEVENT:FALSE
SUMMARY:Sadie Hawkins
DESCRIPTION:Sadie Hawkins\, Golf Tournament\n\nOpen/Scotch\n\nTWOSOME
X-ALT-DESC;FMTTYPE=text/html:Sadie Hawkins\, Golf Tournament<br />\nOpen/Scotch<br />\nTWOSOME
LOCATION:Ticonderoga Country Club
UID:e.1115.4939
SEQUENCE:3
DTSTAMP:20260421T010523Z
URL:http://business.ticonderogany.com/events/details/sadie-hawkins-09-01-2014-4939
END:VEVENT

END:VCALENDAR
