BEGIN:VCALENDAR
VERSION:2.0
PRODID:-//ChamberMaster//Event Calendar 2.0//EN
METHOD:PUBLISH
X-PUBLISHED-TTL:P3D
REFRESH-INTERVAL:P3D
CALSCALE:GREGORIAN
BEGIN:VEVENT
DTSTART;VALUE=DATE:20141003
DTEND;VALUE=DATE:20141004
TRANSP:TRANSPARENT
X-MICROSOFT-CDO-ALLDAYEVENT:TRUE
SUMMARY:Mountain Time Auction
DESCRIPTION:Mountain Time Furniture and Auction will host an auction on Friday\, October 3\, 2014.
X-ALT-DESC;FMTTYPE=text/html:Mountain Time Furniture and Auction will host an auction on Friday\, October 3\, 2014.&nbsp\;
LOCATION:Mountain Time Furniture and Auctions Montcalm Street
UID:e.1115.6395
SEQUENCE:3
DTSTAMP:20260420T082745Z
URL:http://business.ticonderogany.com/events/details/mountain-time-auction-10-03-2014-6395
END:VEVENT

END:VCALENDAR
