BEGIN:VCALENDAR
VERSION:2.0
PRODID:-//ChamberMaster//Event Calendar 2.0//EN
METHOD:PUBLISH
X-PUBLISHED-TTL:P3D
REFRESH-INTERVAL:P3D
CALSCALE:GREGORIAN
BEGIN:VEVENT
DTSTART:20150410T220000Z
DTEND:20150410T220000Z
X-MICROSOFT-CDO-ALLDAYEVENT:FALSE
SUMMARY:Mountain Time Auction
DESCRIPTION:Mountain Time Auction
X-ALT-DESC;FMTTYPE=text/html:Mountain Time Auction&nbsp\;
LOCATION:Mountain Time Furniture & Auctions
UID:e.1115.7484
SEQUENCE:3
DTSTAMP:20260423T081657Z
URL:http://business.ticonderogany.com/events/details/mountain-time-auction-04-10-2015-7484
END:VEVENT

END:VCALENDAR
